BEGIN:VCALENDAR
VERSION:2.0
PRODID:-//LIGHT - ECPv6.15.20//NONSGML v1.0//EN
CALSCALE:GREGORIAN
METHOD:PUBLISH
X-ORIGINAL-URL:https://lightsocal.com
X-WR-CALDESC:Events for LIGHT
REFRESH-INTERVAL;VALUE=DURATION:PT1H
X-Robots-Tag:noindex
X-PUBLISHED-TTL:PT1H
BEGIN:VTIMEZONE
TZID:UTC
BEGIN:STANDARD
TZOFFSETFROM:+0000
TZOFFSETTO:+0000
TZNAME:UTC
DTSTART:20240101T000000
END:STANDARD
END:VTIMEZONE
BEGIN:VEVENT
DTSTART;TZID=UTC:20250108T083000
DTEND;TZID=UTC:20250111T150000
DTSTAMP:20260422T112235
CREATED:20241023T155203Z
LAST-MODIFIED:20241025T174844Z
UID:10000003-1736325000-1736607600@lightsocal.com
SUMMARY:LIGHTOVATION: Dallas International Lighting Show
DESCRIPTION:January 8 – 11\nWednesday – Saturday\n8:30AM – 6:00PM\nShow closes at 3pm on Saturday\, January 11.\n\nOur Manufacturers:\n\nMaxim and ET2: TM 3905 and 3901 \nSatco/Nuvo: TM 4942 \nFanimation: TM 4943 \nVaraluz: TM 4507 \nAFX: TM 3383 \nLegrand: TM 4727 \nHVLG Lighting: TM 3902 \nKalco/Allegri Contract: TM 4915 \nAccord: TM 3353
URL:https://lightsocal.com/event/lightovation-dallas-international-lighting-show/
LOCATION:Dallas Market Center\, 2100 North Stemmons Freeway\, Dallas\, TX\, 75207\, United States
CATEGORIES:Out of State Trade Show
ATTACH;FMTTYPE=image/jpeg:https://lightsocal.com/wp-content/uploads/2024/07/SMARTLIGHT_SHV700-CHV700-1000x750-LEDNER.jpg
END:VEVENT
BEGIN:VEVENT
DTSTART;VALUE=DATE:20250120
DTEND;VALUE=DATE:20250124
DTSTAMP:20260422T112235
CREATED:20241023T155544Z
LAST-MODIFIED:20241025T174943Z
UID:10000004-1737331200-1737676799@lightsocal.com
SUMMARY:Lightapalooza 2025
DESCRIPTION:January 20-23\, 2025
URL:https://lightsocal.com/event/lightapalooza-2025/
LOCATION:Hilton Anatole\, 2201 North Stemmons Freeway\, Dallas\, TX\, 75207\, United States
CATEGORIES:Out of State Trade Show
ATTACH;FMTTYPE=image/png:https://lightsocal.com/wp-content/uploads/2024/10/Screenshot-2024-10-23-085243.png
END:VEVENT
END:VCALENDAR