BEGIN:VCALENDAR
VERSION:2.0
PRODID:-//LIGHT - ECPv6.15.20//NONSGML v1.0//EN
CALSCALE:GREGORIAN
METHOD:PUBLISH
X-WR-CALNAME:LIGHT
X-ORIGINAL-URL:https://lightsocal.com
X-WR-CALDESC:Events for LIGHT
REFRESH-INTERVAL;VALUE=DURATION:PT1H
X-Robots-Tag:noindex
X-PUBLISHED-TTL:PT1H
BEGIN:VTIMEZONE
TZID:UTC
BEGIN:STANDARD
TZOFFSETFROM:+0000
TZOFFSETTO:+0000
TZNAME:UTC
DTSTART:20240101T000000
END:STANDARD
END:VTIMEZONE
BEGIN:VEVENT
DTSTART;TZID=UTC:20250618T080000
DTEND;TZID=UTC:20250621T170000
DTSTAMP:20260420T114313
CREATED:20250128T232751Z
LAST-MODIFIED:20250128T232754Z
UID:10000014-1750233600-1750525200@lightsocal.com
SUMMARY:LIGHTOVATION: Dallas International Lighting Show
DESCRIPTION:Dallas Market Center is renowned as the International Home of Lighting. Thousands of lighting professionals travel to Dallas each January and June for the largest residential lighting show in the Western Hemisphere. Discover innovative product lines and experience the most comprehensive collection of lighting–indoor and outdoor\, decorative and architectural\, plus ceiling fans\, controls\, light sources\, and smart and connected lighting systems.
URL:https://lightsocal.com/event/lightovation-dallas-international-lighting-show-2/
LOCATION:Dallas Market Center\, 2100 North Stemmons Freeway\, Dallas\, TX\, 75207\, United States
CATEGORIES:Out of State Tradeshow
ATTACH;FMTTYPE=image/png:https://lightsocal.com/wp-content/uploads/2025/01/Screenshot-2025-01-28-152716.png
END:VEVENT
BEGIN:VEVENT
DTSTART;TZID=UTC:20250722T170000
DTEND;TZID=UTC:20250722T210000
DTSTAMP:20260420T114313
CREATED:20250630T221033Z
LAST-MODIFIED:20250630T221237Z
UID:10000016-1753203600-1753218000@lightsocal.com
SUMMARY:NEWH LA Hotel Tour
DESCRIPTION:
URL:https://lightsocal.com/event/newh-la-hotel-tour/
LOCATION:California
ATTACH;FMTTYPE=image/jpeg:https://lightsocal.com/wp-content/uploads/2025/06/la_7-2025tour2.jpg
END:VEVENT
BEGIN:VEVENT
DTSTART;TZID=UTC:20250801T173000
DTEND;TZID=UTC:20250801T223000
DTSTAMP:20260420T114313
CREATED:20250128T233028Z
LAST-MODIFIED:20250128T233031Z
UID:10000015-1754069400-1754087400@lightsocal.com
SUMMARY:IES LA Lumen West Awards
DESCRIPTION:
URL:https://lightsocal.com/event/ies-la-lumen-west-awards/
LOCATION:Skirball Cultural Center\, 2701 N. Sepulveda Blvd.\, Los Angeles\, California\, 90049\, United States
CATEGORIES:Association Sponsored Event
ATTACH;FMTTYPE=image/jpeg:https://lightsocal.com/wp-content/uploads/2025/01/Lumen-West-2025-Save-the-Date.jpg
END:VEVENT
BEGIN:VEVENT
DTSTART;TZID=UTC:20260121T180000
DTEND;TZID=UTC:20260121T200000
DTSTAMP:20260420T114313
CREATED:20251212T174337Z
LAST-MODIFIED:20251212T174344Z
UID:10000018-1769018400-1769025600@lightsocal.com
SUMMARY:IES OC Dark Skies Event
DESCRIPTION:Dark Skies and Why They’re Worth Protecting \n\n\n\nPeople lived under starry skies for thousands of years but nighttime lighting in cities has now hidden it from view for most of the planet’s inhabitants. But it’s a heritage worth protecting and bringing back. Light pollution is not only reversible but responsible lighting saves energy\, saves money\, and provides better\, targeted lighting. We’ll look at examples of the night sky from around the world and touch on solutions that benefit both humans and animals. \n\n\n\nEVENING TIMELINE \n\n\n\nGuest Check in / Dinner/ Cocktail Hour 6pm-7pm (Buffet Dinner Included. Cash Bar) \n\n\n\nSpeaking Presentation 7pm-8pm
URL:https://lightsocal.com/event/ies-oc-dark-skies-event/
LOCATION:Dave and Buster’s Irvine\, 661 Spectrum Center Dr.\, Irvine\, California\, 92618\, United States
CATEGORIES:Association Sponsored Event
ATTACH;FMTTYPE=image/jpeg:https://lightsocal.com/wp-content/uploads/2025/12/dark.jpg
END:VEVENT
BEGIN:VEVENT
DTSTART;TZID=UTC:20260126T120000
DTEND;TZID=UTC:20260126T130000
DTSTAMP:20260420T114313
CREATED:20260113T204457Z
LAST-MODIFIED:20260113T204500Z
UID:10000022-1769428800-1769432400@lightsocal.com
SUMMARY:Education: Virtual IIDA Chapter CEU IDCEC Course
DESCRIPTION:Virtual Chapter CEU:Lina Bo Bardi – An Unorthodox Modernist.Learn more about her architectural projects\, her historical context\, Brazilian culture\, and her timeless creation: The Bowel Chair. Enrich the knowledge about brutalist and modernist architectural projects\, which are still relevant today.
URL:https://lightsocal.com/event/education-virtual-iida-chapter-ceu-idcec-course/
LOCATION:California
CATEGORIES:Online Education
ATTACH;FMTTYPE=image/jpeg:https://lightsocal.com/wp-content/uploads/2026/01/0d5e0a51-3127-1104-dea9-5d85ec2cfebc.jpg
END:VEVENT
BEGIN:VEVENT
DTSTART;TZID=UTC:20260205T090000
DTEND;TZID=UTC:20260205T100000
DTSTAMP:20260420T114313
CREATED:20260115T195529Z
LAST-MODIFIED:20260115T195829Z
UID:10000026-1770282000-1770285600@lightsocal.com
SUMMARY:IES: The LED Dilemma Webinar (1 CEU)
DESCRIPTION:The LED Dilemma: Rethinking LED Sustainability \n\n\n\nPresenters: Rachel Fitzgerald & Anne Kustner Haser\n\n\n\nExploring solutions for repairability\, longevity\, and responsible design. \n\n\n\nThe first generation of LED luminaires—once seen as groundbreaking—are now reaching the end of their life. Unlike traditional lighting systems\, these integrated LED products often cannot be repaired or upgraded\, leading to costly replacements and significant waste. This challenge isn’t just technical—it’s systemic\, impacting sustainability goals\, design practices across the industry and our client’s budget. Join us as we explore why this is happening\, what it means for the future of architectural lighting\, and how we can work together to create solutions that prioritize longevity and circular design. \n\n\n\nRegistration for this event ends on February 5\, 2026 at 9 am PST. \n\n\n\nWebinar participants are eligible for one (1) IES Continuing Education Unit (CEU).
URL:https://lightsocal.com/event/ies-the-led-dilema-webinar-1-ceu/
LOCATION:California
ATTACH;FMTTYPE=image/png:https://lightsocal.com/wp-content/uploads/2026/01/e0f10257-87d5-8d1e-e682-28fb3fef27f3-1.png
END:VEVENT
BEGIN:VEVENT
DTSTART;TZID=UTC:20260219T170000
DTEND;TZID=UTC:20260219T183000
DTSTAMP:20260420T114313
CREATED:20251217T005910Z
LAST-MODIFIED:20251217T005913Z
UID:10000019-1771520400-1771525800@lightsocal.com
SUMMARY:BIASC Coachelle Valley Chapter Meet the Builder
DESCRIPTION:
URL:https://lightsocal.com/event/biasc-coachelle-valley-chapter-meet-the-builder/
LOCATION:California
END:VEVENT
BEGIN:VEVENT
DTSTART;TZID=UTC:20260219T170000
DTEND;TZID=UTC:20260219T190000
DTSTAMP:20260420T114313
CREATED:20260123T201436Z
LAST-MODIFIED:20260123T201442Z
UID:10000027-1771520400-1771527600@lightsocal.com
SUMMARY:EDI: Trauma Informed Design - IIDA LA
DESCRIPTION:Event Details \n\n\n\nThe “Trauma Informed Design” discussion will address the importance of acknowledging the pervasive nature of trauma and why it is a pillar of Inclusive Design. The nuances that allow occupants to recover\, regulate if needed\, and foster inclusiveness and empowerment. \n\n\n\nThe event will explore relationships between trauma and workplace experiences and how physical space can influence persons wellbeing. \n\n\n\nThe event is organized by IIDA SoCal EDI Sector \n\n\n\nPanelist:Dr. Lauren Gant\, Senior Ergonomics and Wellness Strategist at HNI Corporation \n\n\n\nModerator:Tina Giorgadze – IIDA SoCal Co-VP of EDI \n\n\n\nTickets:Member: FreeNon-Member: $50Students: Free \n\n\n\nThis event is also being held in San Diego and Orange County.
URL:https://lightsocal.com/event/edi-trauma-informed-design-iida-la/
LOCATION:Gensler LA\, 500 S Figueroa St Los Angeles\, CA 90071\, Los Angeles\, California\, 90071\, United States
ATTACH;FMTTYPE=image/png:https://lightsocal.com/wp-content/uploads/2026/01/Screenshot-2026-01-22-170702.png
END:VEVENT
BEGIN:VEVENT
DTSTART;TZID=UTC:20260226T100000
DTEND;TZID=UTC:20260226T170000
DTSTAMP:20260420T114313
CREATED:20251219T232804Z
LAST-MODIFIED:20260114T223657Z
UID:10000020-1772100000-1772125200@lightsocal.com
SUMMARY:IES LA Walley Whiteny Product Fair
DESCRIPTION:We’re excited to have you join us at the Wally Whitney Memorial Product Fair with IES LA. The annual event will be held on February 26th. Please register today! Location:The Reef1933 S BroadwayLos Angeles\, CA 90007DIRECTIONS HEREDate: Thursday\, February 26th\, 2026Time: 12:00 pm – 7:00 pmFood and Drinks: \n\n\n\nThere will be lunch and snacks throughout the day. Free coffee stations are set up with a No Host Bar in the evening. Parking: \n\n\n\nParking will be validated at the event. There are two locations available for parking. We advise parking in the lot across the street\, as exiting the event is much easier at the end of the day. 
URL:https://lightsocal.com/event/ies-la-walley-whiteny-product-fair/
LOCATION:California
ATTACH;FMTTYPE=image/png:https://lightsocal.com/wp-content/uploads/2025/12/IES-LA-Product-Fair-2-scaled.png
END:VEVENT
BEGIN:VEVENT
DTSTART;TZID=UTC:20260309T183000
DTEND;TZID=UTC:20260309T210000
DTSTAMP:20260420T114313
CREATED:20260303T174157Z
LAST-MODIFIED:20260303T174201Z
UID:10000033-1773081000-1773090000@lightsocal.com
SUMMARY:IES LA Bowling Night
DESCRIPTION:IES Los Angeles Bowling Night brings together the local lighting community for a fun\, casual evening of bowling\, food\, drinks\, networking\, and friendly competition. The event supports IES LA programming\, education\, and community initiatives while creating a great opportunity for designers\, reps\, manufacturers\, engineers\, and emerging professionals to connect.
URL:https://lightsocal.com/event/ies-la-bowling-night/
LOCATION:California
CATEGORIES:Association Sponsored Event
ATTACH;FMTTYPE=image/jpeg:https://lightsocal.com/wp-content/uploads/2026/03/IESLA-Bowling-Night.jpg
END:VEVENT
BEGIN:VEVENT
DTSTART;TZID=UTC:20260310T173000
DTEND;TZID=UTC:20260310T203000
DTSTAMP:20260420T114313
CREATED:20260225T003938Z
LAST-MODIFIED:20260225T003941Z
UID:10000030-1773163800-1773174600@lightsocal.com
SUMMARY:NEWH Hotel Tour San Diego
DESCRIPTION:2223 El Cajon BoulevardSan Diego\, CA 92104  \n\n\n\n$60 for members$80 for non-members  \n\n\n\nLafayette Hotel Tour
URL:https://lightsocal.com/event/newh-hotel-tour-san-diego/
LOCATION:2223 El Cajon Bld. San Diego\, CA 92104
CATEGORIES:Association Sponsored Event
ATTACH;FMTTYPE=image/jpeg:https://lightsocal.com/wp-content/uploads/2026/02/Media8095.jpg
END:VEVENT
BEGIN:VEVENT
DTSTART;TZID=UTC:20260312T120000
DTEND;TZID=UTC:20260312T130000
DTSTAMP:20260420T114313
CREATED:20260303T163559Z
LAST-MODIFIED:20260303T163603Z
UID:10000032-1773316800-1773320400@lightsocal.com
SUMMARY:Eduction: IIDA Collective Design Season 7\, Episode 1 | The Business of Creativity
DESCRIPTION:Good design hinges on creativity\, innovation\, and intuition. But design is also a business\, which means designers can’t just wait for the muse — or be led entirely by their creative instincts. Our panel of experts will explore how to harness your creative force while working within constraints\, delve into the brain science behind creativity\, and provide practical tips for amplifying your creativity and refining your ideas. \n\n\n\nModerator:Cheryl S. Durst\, Hon. FIIDA\, Executive Vice President and CEO\, IIDAPanelists:Valerie Jardon\, IIDA\, Managing Director of Strategy and Principal\, IA Interior ArchitectsSuzanne Lefebvre\, IIDA\, Vice President\, Design Leader\, CannonDesignYong In\, IIDA\, CDF\, Assistant Professor of Practice\, Purdue University \n\n\n\nThis episode is approved for 1 IDCEC CEU.
URL:https://lightsocal.com/event/eduction-iida-collective-design-season-7-episode-1-the-business-of-creativity/
LOCATION:California
CATEGORIES:Online Education
ATTACH;FMTTYPE=image/jpeg:https://lightsocal.com/wp-content/uploads/2026/03/ff46b330-51d7-ef21-ead7-42195de13af7-scaled.jpg
END:VEVENT
BEGIN:VEVENT
DTSTART;TZID=UTC:20260318T190000
DTEND;TZID=UTC:20260318T210000
DTSTAMP:20260420T114313
CREATED:20260114T224430Z
LAST-MODIFIED:20260204T184355Z
UID:10000023-1773860400-1773867600@lightsocal.com
SUMMARY:IES OC Pub Trivia
DESCRIPTION:Join IESOC for A fun Filled night of Trivia with GEEKS WHO DRINK. Note this is a fun social Event and the Trivia questions are varied (not just lighting) so Anyone can join! \n\n\n\n21+ EVENT ONLY \n\n\n\nYour $5 SIGN UP INCLUDES 1 BEER (or non-Alcoholic Drink) and Appetizers \n\n\n\nWursthaus\n\n\n\nWednesday at 7:00 pm \n\n\n\n305 E 4th St #106Santa Ana\, CA 92701 \n\n\n\nNote: Park in the Parking Garage Next door for $2 parking or take the new Santa Ana Trolley (the Stop is at the front door)
URL:https://lightsocal.com/event/ies-oc-pub-trivia/
LOCATION:California
ATTACH;FMTTYPE=image/jpeg:https://lightsocal.com/wp-content/uploads/2026/01/IES-Trivia-Night.jpg
END:VEVENT
BEGIN:VEVENT
DTSTART;TZID=UTC:20260324T100000
DTEND;TZID=UTC:20260325T120000
DTSTAMP:20260420T114313
CREATED:20260210T183030Z
LAST-MODIFIED:20260210T183034Z
UID:10000028-1774346400-1774440000@lightsocal.com
SUMMARY:Webinar: Beyond the Lighting Specialist
DESCRIPTION:Event Details \n\n\n\nBeyond the Lighting Specialist – What’s Next? \n\n\n\nDevelop your skills beyond Lighting Specialist. Take the next step and be prepared to provide professional and usable design services in addition to selling products. Peter Romaniello will guide you through ways to create more advanced plan specifications for your clients/customers. \n\n\n\nThis two-day virtual class takes place from 10:00 AM to 12:00 PM and 2:30 PM to 4:30 PM on Tuesday and Wednesday\, March 24 & 25\, 2026 – Central Time. Each session will be recorded for review at a later time. \n\n\n\nThis class includes 8 hours of virtual training and 8 CEU Credits. \n\n\n\nWhat to include in a specification \n\n\n\nLearn what a specification is and what should be included in your design plan. \n\n\n\nHow to write a schedule vs. a quote \n\n\n\nWhen writing specifications\, your responsibility changes from writing a quote to writing specs that everyone on the project can read and understand. \n\n\n\nHow to successfully and fairly charge for your services \n\n\n\nDon’t give away your expertise. Charging for your design services is vital for generating revenue as well as enhancing your value and credibility. Your clients should not expect free drawings when visiting a showroom. There are various ways to charge (and we will discuss them)\, but you must be sure your clients understand that your time and expertise are valuable and separate from the sale of products. \n\n\n\nHow to go beyond basic in a lighting plan \n\n\n\nWe will examine the impact of a lighting plan and how to make these plans readable to the customer or contractor. We will look at different ways to improve the appearance and professionalism of your plans while making them quick and effective. \n\n\n\nHow to incorporate controls into your sales and plan \n\n\n\nWhere does your job with controls start and end? Today’s projects require more than just selling dimmers. We will talk about how to design control systems and what your responsibilities should be. \n\n\n\nAdditionally\, we will discuss balancing recessed with decorative lighting/ceiling fans and selecting the right linear fixture for your clients’ needs. \n\n\n\nClass dates/times via Zoom: \n\n\n\n10:00 AM – 12:00 Noon & 2:30 PM – 4: 30 PM (Eastern Time)
URL:https://lightsocal.com/event/webinar-beyond-the-lighting-specialist/
LOCATION:California
CATEGORIES:Online Education
ATTACH;FMTTYPE=image/png:https://lightsocal.com/wp-content/uploads/2026/02/Screenshot-2026-02-10-102843.png
END:VEVENT
BEGIN:VEVENT
DTSTART;TZID=UTC:20260325T160000
DTEND;TZID=UTC:20260325T200000
DTSTAMP:20260420T114313
CREATED:20260225T165144Z
LAST-MODIFIED:20260225T165147Z
UID:10000031-1774454400-1774468800@lightsocal.com
SUMMARY:IIDA LA DesignConnect
DESCRIPTION:DesignConnect returns this year in an exciting new\, expanded venue at Rolling Greens in DTLA — offering more room for engagement\, activations\, and connection across the SoCal design community. \n\n\n\nThis high-energy evening brings together designers\, architects\, dealers\, students\, and industry partners for an immersive showcase of the latest products\, materials\, and innovations shaping the built environment. \n\n\n\nWhat to Expect:  \n\n\n\n\nCurated brand showcases and product activations\n\n\n\nDirect interaction with manufacturers + reps\n\n\n\nA strong mix of workplace\, hospitality\, education\, and healthcare design professionals\n\n\n\nFood & beverage partners throughout the evening (to be announced soon)\n\n\n\nVinyl sets spinning throughout the night courtesy of Paul Swila\, Vitra Los Angeles
URL:https://lightsocal.com/event/iida-la-designconnect/
LOCATION:California
CATEGORIES:Los Angeles Tradeshow
ATTACH;FMTTYPE=image/jpeg:https://lightsocal.com/wp-content/uploads/2026/02/DESIGN-CONNECT-Newsletter_650px-600x300-1.jpg
END:VEVENT
BEGIN:VEVENT
DTSTART;TZID=UTC:20260408T100000
DTEND;TZID=UTC:20260408T110000
DTSTAMP:20260420T114313
CREATED:20260210T183151Z
LAST-MODIFIED:20260210T214202Z
UID:10000029-1775642400-1775646000@lightsocal.com
SUMMARY:Webinar: Light in the Digital Era
DESCRIPTION:Join us for a deep dive into digital lighting with David Warfel and discover ways to improve control\, reduce material consumption\, deliver more beautiful projects\, and help homeowners live healthy lives with better light.
URL:https://lightsocal.com/event/webinar-light-in-the-digital-era/
LOCATION:California
CATEGORIES:Online Education
END:VEVENT
BEGIN:VEVENT
DTSTART;TZID=UTC:20260410T080000
DTEND;TZID=UTC:20260412T170000
DTSTAMP:20260420T114313
CREATED:20260114T234309Z
LAST-MODIFIED:20260114T234314Z
UID:10000025-1775808000-1776013200@lightsocal.com
SUMMARY:IES OC Fundamentals of Lighting Course 2026
DESCRIPTION:Friday\, April 10\, 2026 – Sunday\, April 12\, 2026 \n\n\n\n8:00 am – 5:00 pm Daily \n\n\n\nThis is a comprehensive seven module program divided over the course of 3 days. It will provide enough depth for basic understanding while attempting to cover the most significant areas within the field of study. It is designed to provide sound lighting knowledge in an easy-to-understand fashion. FOL offers a great opportunity for those entering the lighting industry as interior designers\, lighting designers\, engineers\, sales agents\, manufacturers\, retrofitters\, or electrical contractors. As a refresher course in lighting\, there is no equal for those seeking to enhance their careers and personal growth. \n\n\n\nSpace is limited\, please reserve your seat ASAP. \n\n\n\nThe Course will be held IN PERSON ONLY for 3 consecutive days from 8 am – 5 pm. Hosted at Performance Lighting Systems – 5 Jenner Suite 130\, Irvine\, CA 92618 \n\n\n\nThere will be no makeup dates. You must attend all 3 days in order to obtain a certificate of completion from the Illuminating Engineering Society.
URL:https://lightsocal.com/event/ies-oc-fundamentals-of-lighting-course-2026/
LOCATION:California
ATTACH;FMTTYPE=image/jpeg:https://lightsocal.com/wp-content/uploads/2026/01/FOL-.jpg
END:VEVENT
BEGIN:VEVENT
DTSTART;TZID=UTC:20260423T173000
DTEND;TZID=UTC:20260423T203000
DTSTAMP:20260420T114313
CREATED:20251212T172401Z
LAST-MODIFIED:20251212T172408Z
UID:10000017-1776965400-1776976200@lightsocal.com
SUMMARY:IIDA San Diego Haute Couture Fashion Show
DESCRIPTION:The highly anticipated IIDA Haute Couture San Diego Fashion Show returns on April 23rd at the iconic House of Blues! \n\n\n\nJoin us for an unforgettable evening filled with fashion\, flair\, and fierce creativity as local A&D firms strut their stuff—literally! Each team will debut show-stopping outfits crafted entirely from commercial interior design materials provided by their generous sponsors. From carpet couture to wallcovering wonders\, these designs are bound to wow the crowd. \n\n\n\nDon’t miss this one-of-a-kind celebration where design meets the runway. It’s bold\, it’s innovative\, and it’s a whole lot of fun!
URL:https://lightsocal.com/event/iida-san-diego-haute-couture-fashion-show/
LOCATION:House of Blues\, 1055 Fifth Ave\, San Diego\, California\, United States
CATEGORIES:Association Sponsored Event
ATTACH;FMTTYPE=image/jpeg:https://lightsocal.com/wp-content/uploads/2025/12/FS-IIDA-Newsletter-Header_Alt-BG-Color_650px-600x254-1.jpg
END:VEVENT
BEGIN:VEVENT
DTSTART;TZID=UTC:20260430T160000
DTEND;TZID=UTC:20260430T190000
DTSTAMP:20260420T114313
CREATED:20260317T214037Z
LAST-MODIFIED:20260317T214041Z
UID:10000034-1777564800-1777575600@lightsocal.com
SUMMARY:BIA Orange County Meet The Builder
DESCRIPTION:For Members Only:
URL:https://lightsocal.com/event/bia-orange-county-meet-the-builder/
LOCATION:Anaheim Hills Golf Club\, 6501 Nohl Rand Rd.\, Anaheim\, California\, 92807\, United States
END:VEVENT
BEGIN:VEVENT
DTSTART;TZID=UTC:20260518T080000
DTEND;TZID=UTC:20260518T170000
DTSTAMP:20260420T114313
CREATED:20260114T224748Z
LAST-MODIFIED:20260114T224752Z
UID:10000024-1779091200-1779123600@lightsocal.com
SUMMARY:IES OC Golf Tournament
DESCRIPTION:
URL:https://lightsocal.com/event/ies-oc-golf-tournament/
LOCATION:Aliso Viejo Country Club\, 33 Santa Barbara Dr\, Aliso Viejo\, California\, 92656\, United States
ATTACH;FMTTYPE=image/jpeg:https://lightsocal.com/wp-content/uploads/2026/01/IMG_4965.jpeg
END:VEVENT
BEGIN:VEVENT
DTSTART;TZID=UTC:20260626T170000
DTEND;TZID=UTC:20260626T233000
DTSTAMP:20260420T114313
CREATED:20251219T232909Z
LAST-MODIFIED:20260114T224131Z
UID:10000021-1782493200-1782516600@lightsocal.com
SUMMARY:IES LA Lumen West Awards
DESCRIPTION:Venue\n\n\n\nView Venue Website \n\n\n\nSkirball Cultural Center \n\n\n\n2701 N. Sepulveda Blvd.Los Angeles\, CA 90049 United States + Google Map \n\n\n\nPhone(310) 440-4500
URL:https://lightsocal.com/event/ies-la-lumen-west-awards-2/
LOCATION:California
ATTACH;FMTTYPE=image/gif:https://lightsocal.com/wp-content/uploads/2025/12/lw26.gif
END:VEVENT
END:VCALENDAR